BEGIN:VCALENDAR
VERSION:2.0
PRODID:millstreamcms
METHOD:PUBLISH
UID:01lnki38ccr8b48ko25vjgg8ov_R20190502@google.com
BEGIN:VEVENT
SUMMARY:EDU Dance Lessons
DESCRIPTION:Edu Dance Lessons Years 1-6.
DTSTAMP:20260424T153639Z
DTSTART:20190613
DTEND:20190614
LOCATION:
END:VEVENT
END:VCALENDAR
