BEGIN:VCALENDAR
VERSION:2.0
PRODID:millstreamcms
METHOD:PUBLISH
UID:01o0c65f8ur31fl2ot41g0699u@google.com
BEGIN:VEVENT
SUMMARY:No Early Close
DESCRIPTION:No Early Close today due to swimming lessons. School finishes 2.50pm for Kindy students and 3.00pm for students in PP-Year 6.
DTSTAMP:20260424T152938Z
DTSTART:20190319T063000Z
DTEND:20190319T063000Z
LOCATION:
END:VEVENT
END:VCALENDAR
