BEGIN:VCALENDAR
VERSION:2.0
PRODID:millstreamcms
METHOD:PUBLISH
UID:03c1lndbt8t7cmpcqgf91kn44t@google.com
BEGIN:VEVENT
SUMMARY:Year 6 Graduation & Excursion
DESCRIPTION:
DTSTAMP:20260424T164200Z
DTSTART:20181213T010000Z
DTEND:20181213T023000Z
LOCATION:
END:VEVENT
END:VCALENDAR
