BEGIN:VCALENDAR
VERSION:2.0
PRODID:millstreamcms
METHOD:PUBLISH
UID:03ogs08g7drkgsjaugjdvh3729@google.com
BEGIN:VEVENT
SUMMARY:Swimming Lessons
DESCRIPTION:Swimming Lessons Pre Primary - Year 6.
DTSTAMP:20260424T152635Z
DTSTART:20190318T010000Z
DTEND:20190329T070000Z
LOCATION:
END:VEVENT
END:VCALENDAR
