BEGIN:VCALENDAR
VERSION:2.0
PRODID:millstreamcms
METHOD:PUBLISH
UID:0676b07cg1qsd4qfvcf7ss9h79@google.com
BEGIN:VEVENT
SUMMARY:Year 4-6 Swimming Carnival
DESCRIPTION:
DTSTAMP:20260424T152600Z
DTSTART:20190409T010000Z
DTEND:20190409T040000Z
LOCATION:
END:VEVENT
END:VCALENDAR
