BEGIN:VCALENDAR
VERSION:2.0
PRODID:millstreamcms
METHOD:PUBLISH
UID:08fuvg27dh0oud37kruroqpsoq@google.com
BEGIN:VEVENT
SUMMARY:M4 Assembly - (Excellence Awards)
DESCRIPTION:
DTSTAMP:20260424T152918Z
DTSTART:20190315T004500Z
DTEND:20190315T013000Z
LOCATION:
END:VEVENT
END:VCALENDAR
