BEGIN:VCALENDAR
VERSION:2.0
PRODID:millstreamcms
METHOD:PUBLISH
UID:0c2iv9dk5ceta4bfgoghicef45@google.com
BEGIN:VEVENT
SUMMARY:JB1 Assembly (Aussie of the Month Awards)
DESCRIPTION:
DTSTAMP:20260424T152632Z
DTSTART:20190510T005000Z
DTEND:20190510T013000Z
LOCATION:
END:VEVENT
END:VCALENDAR
