BEGIN:VCALENDAR
VERSION:2.0
PRODID:millstreamcms
METHOD:PUBLISH
UID:0ctk08h58132am4l4aj9peo2cs@google.com
BEGIN:VEVENT
SUMMARY:Year 1 Bunning Incursion
DESCRIPTION:
DTSTAMP:20260424T152727Z
DTSTART:20181204
DTEND:20181205
LOCATION:
END:VEVENT
END:VCALENDAR
