BEGIN:VCALENDAR
VERSION:2.0
PRODID:millstreamcms
METHOD:PUBLISH
UID:0f3uia2jq1k4l3jostp4p5fhcm@google.com
BEGIN:VEVENT
SUMMARY:Semester 1 reports emailed home.
DESCRIPTION:
DTSTAMP:20260424T150840Z
DTSTART:20190701
DTEND:20190702
LOCATION:
END:VEVENT
END:VCALENDAR
