BEGIN:VCALENDAR
VERSION:2.0
PRODID:millstreamcms
METHOD:PUBLISH
UID:0j6mc58j6upcphqd98ei5dpq20@google.com
BEGIN:VEVENT
SUMMARY:Melbourne Cup Day
DESCRIPTION:
DTSTAMP:20260424T152559Z
DTSTART:20191105
DTEND:20191106
LOCATION:
END:VEVENT
END:VCALENDAR
