BEGIN:VCALENDAR
VERSION:2.0
PRODID:millstreamcms
METHOD:PUBLISH
UID:0muc94edfbvr8nctv0vll9k9tj@google.com
BEGIN:VEVENT
SUMMARY:JB2 Assembly (Aussie of the Month Awards)
DESCRIPTION:
DTSTAMP:20260424T152637Z
DTSTART:20191108T010000Z
DTEND:20191108T013000Z
LOCATION:
END:VEVENT
END:VCALENDAR
