BEGIN:VCALENDAR
VERSION:2.0
PRODID:millstreamcms
METHOD:PUBLISH
UID:0qr7kcjpkv16enqd5dc2ddu37n@google.com
BEGIN:VEVENT
SUMMARY:Volunteer's Morning Tea
DESCRIPTION:
DTSTAMP:20260424T152609Z
DTSTART:20181205
DTEND:20181206
LOCATION:
END:VEVENT
END:VCALENDAR
