BEGIN:VCALENDAR
VERSION:2.0
PRODID:millstreamcms
METHOD:PUBLISH
UID:14065tlbeksdk0f9s6r3rhjh52@google.com
BEGIN:VEVENT
SUMMARY:Book Award Assembly
DESCRIPTION:
DTSTAMP:20260424T163921Z
DTSTART:20181207T004500Z
DTEND:20181207T014500Z
LOCATION:
END:VEVENT
END:VCALENDAR
