BEGIN:VCALENDAR
VERSION:2.0
PRODID:millstreamcms
METHOD:PUBLISH
UID:156a52el7tjtpu6kdtc7d0guhg@google.com
BEGIN:VEVENT
SUMMARY:Year 6 Incursion - Search for Safety
DESCRIPTION:
DTSTAMP:20260424T150751Z
DTSTART:20190819
DTEND:20190820
LOCATION:
END:VEVENT
END:VCALENDAR
