BEGIN:VCALENDAR
VERSION:2.0
PRODID:millstreamcms
METHOD:PUBLISH
UID:1ctuvu54pjg0ie0qeics1c6avm@google.com
BEGIN:VEVENT
SUMMARY:M3 & M5 Excursion to Kings Park
DESCRIPTION:
DTSTAMP:20260424T150943Z
DTSTART:20190827
DTEND:20190828
LOCATION:
END:VEVENT
END:VCALENDAR
