BEGIN:VCALENDAR
VERSION:2.0
PRODID:millstreamcms
METHOD:PUBLISH
UID:1dc1qhpa0j53ov3fo1bkd4pbg0@google.com
BEGIN:VEVENT
SUMMARY:School Holidays
DESCRIPTION:
DTSTAMP:20260424T164003Z
DTSTART:20190413
DTEND:20190429
LOCATION:
END:VEVENT
END:VCALENDAR
