BEGIN:VCALENDAR
VERSION:2.0
PRODID:millstreamcms
METHOD:PUBLISH
UID:1gevq8k7d9vj1r9gk3haj2b72v@google.com
BEGIN:VEVENT
SUMMARY:Year 3 Author Incursion
DESCRIPTION:
DTSTAMP:20260424T150855Z
DTSTART:20190816
DTEND:20190817
LOCATION:
END:VEVENT
END:VCALENDAR
