BEGIN:VCALENDAR
VERSION:2.0
PRODID:millstreamcms
METHOD:PUBLISH
UID:1ponp7o9vhlr51o4olbnt0l6nf@google.com
BEGIN:VEVENT
SUMMARY:PP Funky Fitness
DESCRIPTION:
DTSTAMP:20260424T150751Z
DTSTART:20190925
DTEND:20190926
LOCATION:
END:VEVENT
END:VCALENDAR
