BEGIN:VCALENDAR
VERSION:2.0
PRODID:millstreamcms
METHOD:PUBLISH
UID:1u5edocaisi0h2havuufcrr8tu@google.com
BEGIN:VEVENT
SUMMARY:ICAS Science online
DESCRIPTION:
DTSTAMP:20260424T150928Z
DTSTART:20190905
DTEND:20190906
LOCATION:
END:VEVENT
END:VCALENDAR
