BEGIN:VCALENDAR
VERSION:2.0
PRODID:millstreamcms
METHOD:PUBLISH
UID:1v3d79u2u0spcieekb67b8ssms@google.com
BEGIN:VEVENT
SUMMARY:School Development Day
DESCRIPTION:
DTSTAMP:20260424T152611Z
DTSTART:20181214
DTEND:20181215
LOCATION:
END:VEVENT
END:VCALENDAR
