BEGIN:VCALENDAR
VERSION:2.0
PRODID:millstreamcms
METHOD:PUBLISH
UID:1vib7t07ak6lelq4pdrq3kua9o@google.com
BEGIN:VEVENT
SUMMARY:Yirra Yakkin Performance
DESCRIPTION:
DTSTAMP:20260424T150951Z
DTSTART:20190805
DTEND:20190806
LOCATION:
END:VEVENT
END:VCALENDAR
