BEGIN:VCALENDAR
VERSION:2.0
PRODID:millstreamcms
METHOD:PUBLISH
UID:216ejfsdda7sqfm83ei8ago4or@google.com
BEGIN:VEVENT
SUMMARY:Quiz Night
DESCRIPTION:
DTSTAMP:20260424T150709Z
DTSTART:20190824
DTEND:20190825
LOCATION:
END:VEVENT
END:VCALENDAR
