BEGIN:VCALENDAR
VERSION:2.0
PRODID:millstreamcms
METHOD:PUBLISH
UID:22hgccejk8s4pv04lub48atklp@google.com
BEGIN:VEVENT
SUMMARY:M5 Assembly (Excellence Awards)
DESCRIPTION:
DTSTAMP:20260424T150508Z
DTSTART:20191025T010000Z
DTEND:20191025T013000Z
LOCATION:
END:VEVENT
END:VCALENDAR
