BEGIN:VCALENDAR
VERSION:2.0
PRODID:millstreamcms
METHOD:PUBLISH
UID:25qk88eibfu7jsimb2muf07q9c@google.com
BEGIN:VEVENT
SUMMARY:MLSHS Year 7 Transition Day
DESCRIPTION:
DTSTAMP:20260424T152602Z
DTSTART:20181206
DTEND:20181207
LOCATION:
END:VEVENT
END:VCALENDAR
