BEGIN:VCALENDAR
VERSION:2.0
PRODID:millstreamcms
METHOD:PUBLISH
UID:283no16i367k5fkkn2pgrssmfm@google.com
BEGIN:VEVENT
SUMMARY:Meet theTeacher Night 
DESCRIPTION:
K & PP      6.00pm-6.20pm
Year 1 -3  6.30pm-6.50pm
Year 4-6   7.00pm-7.20pm
DTSTAMP:20260424T152752Z
DTSTART:20190313T100000Z
DTEND:20190313T100000Z
LOCATION:
END:VEVENT
END:VCALENDAR
