BEGIN:VCALENDAR
VERSION:2.0
PRODID:millstreamcms
METHOD:PUBLISH
UID:2a7mn79doqru0e4jiapp8hc9si@google.com
BEGIN:VEVENT
SUMMARY:Newsletter
DESCRIPTION:
DTSTAMP:20260424T152705Z
DTSTART:20200501
DTEND:20200502
LOCATION:
END:VEVENT
END:VCALENDAR
