BEGIN:VCALENDAR
VERSION:2.0
PRODID:millstreamcms
METHOD:PUBLISH
UID:2a7mn79doqru0e4jiapp8hc9si@google.com
BEGIN:VEVENT
SUMMARY:Newsletter
DESCRIPTION:
DTSTAMP:20260424T150723Z
DTSTART:20200710
DTEND:20200711
LOCATION:
END:VEVENT
END:VCALENDAR
