BEGIN:VCALENDAR
VERSION:2.0
PRODID:millstreamcms
METHOD:PUBLISH
UID:2ag0nq6vir2ebu614a6frbg8h4@google.com
BEGIN:VEVENT
SUMMARY:Year 1 Excursion to Peninsula Farm
DESCRIPTION:
DTSTAMP:20260424T152628Z
DTSTART:20181211
DTEND:20181212
LOCATION:
END:VEVENT
END:VCALENDAR
