BEGIN:VCALENDAR
VERSION:2.0
PRODID:millstreamcms
METHOD:PUBLISH
UID:2e5mks00ap2d9vqt7m374j0q9b@google.com
BEGIN:VEVENT
SUMMARY:Dads and Kids School Campout
DESCRIPTION:
DTSTAMP:20260424T152607Z
DTSTART:20190510
DTEND:20190511
LOCATION:
END:VEVENT
END:VCALENDAR
