BEGIN:VCALENDAR
VERSION:2.0
PRODID:millstreamcms
METHOD:PUBLISH
UID:2ftv1caosuggvomm707e793a8k@google.com
BEGIN:VEVENT
SUMMARY:S! State Library Excursion
DESCRIPTION:
DTSTAMP:20260424T150620Z
DTSTART:20190808
DTEND:20190809
LOCATION:
END:VEVENT
END:VCALENDAR
