BEGIN:VCALENDAR
VERSION:2.0
PRODID:millstreamcms
METHOD:PUBLISH
UID:2htrd4gijgohkg9p3s7gvvtji7@google.com
BEGIN:VEVENT
SUMMARY:P&C Meeting
DESCRIPTION:
DTSTAMP:20260424T153637Z
DTSTART:20190612T110000Z
DTEND:20190612T123000Z
LOCATION:
END:VEVENT
END:VCALENDAR
