BEGIN:VCALENDAR
VERSION:2.0
PRODID:millstreamcms
METHOD:PUBLISH
UID:2igk54s36e3f8fr00eknoavgok@google.com
BEGIN:VEVENT
SUMMARY:JA2 Assembly (Excellence Awards)
DESCRIPTION:
DTSTAMP:20260424T152757Z
DTSTART:20191122T010000Z
DTEND:20191122T013000Z
LOCATION:
END:VEVENT
END:VCALENDAR
