BEGIN:VCALENDAR
VERSION:2.0
PRODID:millstreamcms
METHOD:PUBLISH
UID:2jj70cjk21qqm0sg4par04kb71@google.com
BEGIN:VEVENT
SUMMARY:Year 4-6 Swimming Carnival
DESCRIPTION:
DTSTAMP:20260424T152914Z
DTSTART:20181204
DTEND:20181205
LOCATION:
END:VEVENT
END:VCALENDAR
