BEGIN:VCALENDAR
VERSION:2.0
PRODID:millstreamcms
METHOD:PUBLISH
UID:2ke7iugdf1p7hi41du7op4nctn@google.com
BEGIN:VEVENT
SUMMARY:Lapathon Kindy C & E only
DESCRIPTION:
DTSTAMP:20260424T164035Z
DTSTART:20190527T010000Z
DTEND:20190527T065000Z
LOCATION:
END:VEVENT
END:VCALENDAR
