BEGIN:VCALENDAR
VERSION:2.0
PRODID:millstreamcms
METHOD:PUBLISH
UID:32cuviug2p1582aaqr1umc0ja7@google.com
BEGIN:VEVENT
SUMMARY:School Board Meeting
DESCRIPTION:
DTSTAMP:20260424T153517Z
DTSTART:20190617T073000Z
DTEND:20190617T090000Z
LOCATION:
END:VEVENT
END:VCALENDAR
