BEGIN:VCALENDAR
VERSION:2.0
PRODID:millstreamcms
METHOD:PUBLISH
UID:375i0l2lutb9m4p6q14uggkukc@google.com
BEGIN:VEVENT
SUMMARY:PP Funky Fitness Lessons
DESCRIPTION:
DTSTAMP:20260424T152707Z
DTSTART:20181213T030000Z
DTEND:20181213T043000Z
LOCATION:
END:VEVENT
END:VCALENDAR
