BEGIN:VCALENDAR
VERSION:2.0
PRODID:millstreamcms
METHOD:PUBLISH
UID:3905uj0u68nbm2akgt13bpbrlu@google.com
BEGIN:VEVENT
SUMMARY:NAPLAN
DESCRIPTION:
DTSTAMP:20260424T152955Z
DTSTART:20190514
DTEND:20190525
LOCATION:
END:VEVENT
END:VCALENDAR
