BEGIN:VCALENDAR
VERSION:2.0
PRODID:millstreamcms
METHOD:PUBLISH
UID:39am4dd00oapgo1nh490tln4d9@google.com
BEGIN:VEVENT
SUMMARY:Harmony Day
DESCRIPTION:
DTSTAMP:20260424T153002Z
DTSTART:20190404
DTEND:20190405
LOCATION:
END:VEVENT
END:VCALENDAR
