BEGIN:VCALENDAR
VERSION:2.0
PRODID:millstreamcms
METHOD:PUBLISH
UID:3ba24mi33b5s88rlq2qe7ms62o@google.com
BEGIN:VEVENT
SUMMARY:Lapathon Kindy D & F, PP, Years
DESCRIPTION:
DTSTAMP:20260424T152550Z
DTSTART:20190528T010000Z
DTEND:20190528T070000Z
LOCATION:
END:VEVENT
END:VCALENDAR
