BEGIN:VCALENDAR
VERSION:2.0
PRODID:millstreamcms
METHOD:PUBLISH
UID:3ckgue3l2homdbjqh5kt9ins8n@google.com
BEGIN:VEVENT
SUMMARY:Year 4 Groundwater Excursio, Whiteman Park
DESCRIPTION:
DTSTAMP:20260424T150527Z
DTSTART:20191030
DTEND:20191031
LOCATION:
END:VEVENT
END:VCALENDAR
