BEGIN:VCALENDAR
VERSION:2.0
PRODID:millstreamcms
METHOD:PUBLISH
UID:3d6k18r9pgn42aa7ltsm6veghg@google.com
BEGIN:VEVENT
SUMMARY:First Day for Students
DESCRIPTION:
DTSTAMP:20260424T152806Z
DTSTART:20200203
DTEND:20200204
LOCATION:
END:VEVENT
END:VCALENDAR
