BEGIN:VCALENDAR
VERSION:2.0
PRODID:millstreamcms
METHOD:PUBLISH
UID:3dl0k1sduvhgkqfph44gkv30gn@google.com
BEGIN:VEVENT
SUMMARY:P&C Disco Night
DESCRIPTION:
K-PP       4.30pm-5.30pm
Year 1-3 5.30pm-7.00pm
Year 4-6  7.00pm-8.30pm 
DTSTAMP:20260424T152754Z
DTSTART:20190405T083000Z
DTEND:20190405T123000Z
LOCATION:
END:VEVENT
END:VCALENDAR
