BEGIN:VCALENDAR
VERSION:2.0
PRODID:millstreamcms
METHOD:PUBLISH
UID:3gbe39c6qeqlagemm0sg2l5ohh@google.com
BEGIN:VEVENT
SUMMARY:Year 6 Bridgetown Camp
DESCRIPTION:
DTSTAMP:20260424T152606Z
DTSTART:20191118
DTEND:20191123
LOCATION:
END:VEVENT
END:VCALENDAR
