BEGIN:VCALENDAR
VERSION:2.0
PRODID:millstreamcms
METHOD:PUBLISH
UID:3mcuu5tbd2ragbaldpl80ma7mk@google.com
BEGIN:VEVENT
SUMMARY:Newsletter
DESCRIPTION:
DTSTAMP:20260424T150652Z
DTSTART:20190906
DTEND:20190907
LOCATION:
END:VEVENT
END:VCALENDAR
