BEGIN:VCALENDAR
VERSION:2.0
PRODID:millstreamcms
METHOD:PUBLISH
UID:3t7pu9lhi77kdmocsoefmf1iee@google.com
BEGIN:VEVENT
SUMMARY:M2 Assembly 9Excellence Awards)
DESCRIPTION:
DTSTAMP:20260424T150825Z
DTSTART:20190927
DTEND:20190928
LOCATION:
END:VEVENT
END:VCALENDAR
