BEGIN:VCALENDAR
VERSION:2.0
PRODID:millstreamcms
METHOD:PUBLISH
UID:43q3tkeibahk7tkbsrn9feo99m@google.com
BEGIN:VEVENT
SUMMARY:P&C Meeting
DESCRIPTION:
DTSTAMP:20260424T152716Z
DTSTART:20181205T110000Z
DTEND:20181205T123000Z
LOCATION:
END:VEVENT
END:VCALENDAR
