BEGIN:VCALENDAR
VERSION:2.0
PRODID:millstreamcms
METHOD:PUBLISH
UID:47u80br090crfkur6g6rc9i2kc@google.com
BEGIN:VEVENT
SUMMARY:Funky Fitness Family Fun Day (K & PP)
DESCRIPTION:
DTSTAMP:20260424T152729Z
DTSTART:20191106T080000Z
DTEND:20191106T093000Z
LOCATION:
END:VEVENT
END:VCALENDAR
