BEGIN:VCALENDAR
VERSION:2.0
PRODID:millstreamcms
METHOD:PUBLISH
UID:4co0lis3k5rl953b6ip8pc6n6i@google.com
BEGIN:VEVENT
SUMMARY:Year 5 & 6 Author Incursion
DESCRIPTION:
DTSTAMP:20260424T150712Z
DTSTART:20190823
DTEND:20190824
LOCATION:
END:VEVENT
END:VCALENDAR
