BEGIN:VCALENDAR
VERSION:2.0
PRODID:millstreamcms
METHOD:PUBLISH
UID:4fm77hrv682pc32gh05klba8le@google.com
BEGIN:VEVENT
SUMMARY:Kindy D & F Funky Fitness
DESCRIPTION:
DTSTAMP:20260424T150839Z
DTSTART:20190906
DTEND:20190907
LOCATION:
END:VEVENT
END:VCALENDAR
