BEGIN:VCALENDAR
VERSION:2.0
PRODID:millstreamcms
METHOD:PUBLISH
UID:4jdjbtvv0vgtkl9bf6lmlea7ki@google.com
BEGIN:VEVENT
SUMMARY:Year 5 Parliament House Excursion
DESCRIPTION:
DTSTAMP:20260424T153754Z
DTSTART:20190625T010000Z
DTEND:20190626T070000Z
LOCATION:
END:VEVENT
END:VCALENDAR
